BEGIN:VCALENDAR
VERSION:2.0
PRODID:-//wp-events-plugin.com//7.2.3.1//EN
TZID:Europe/Amsterdam
X-WR-TIMEZONE:Europe/Amsterdam
BEGIN:VEVENT
UID:52@bigbandblast.com
DTSTART;TZID=Europe/Amsterdam:20231015T150000
DTEND;TZID=Europe/Amsterdam:20231015T170000
DTSTAMP:20231003T070044Z
URL:https://www.bigbandblast.com/concerten/sunday-jazz-featuring-david-roc
 kefeller/
SUMMARY:Sunday Jazz featuring David Rockefeller
DESCRIPTION:[embedyt]https://youtu.be/sSP2bm7ejuA?si=HcRXth0H0a74IAtG[/embe
 dyt]\nDoor onvoorziene omstandigheden kan David Kweksilber helaas niet met
  Big Band Blast! meespelen. Daarom hebben we een andere top muzikant van N
 ew Cool Collective gevraagd om met ons een te gek concert neer te zetten. 
 We zouden met David Kweksilber een aantal arrangementen spelen van David R
 ockefeller\, dus wie kan hem beter vervangen dan David Rockefeller zelf! D
 avid Rockefeller is geen onbekende gast van Big Band Blast! Het scheelde n
 iet veel of David Rockefeller speelde met ons en Shirma Rouse drie jaar ge
 leden een corona-proof buitenconcert\, dat drie dagen voor aanvang werd af
 gelast door verscherpte maatregelen.\nJullie zouden David Rockefeller moet
 en kennen van de New Cool Collective. Al jaren staat deze trompettist naas
 t Benjamin Herman. In New Cool Collective combo verband wil hij ook wel ee
 ns de schuif pakken en een leuk deuntje wegblazen op de trombone.\nWij zij
 n benieuwd wat hij voor ons deze middag in petto heeft!\n\n 
ATTACH;FMTTYPE=image/jpeg:https://www.bigbandblast.com/wp-content/uploads/
 PSpotter-Fotografie-IMG_3550-scaled.webp
CATEGORIES:Sunday Jazz
LOCATION:Grand café Bankie\, Benedenveer 5\, 3363 AW\, Sliedrecht
GEO:51.827604;4.744164
X-APPLE-STRUCTURED-LOCATION;VALUE=URI;X-ADDRESS=Benedenveer 5\, Sliedrecht\
 , Zuid-Holland\, 3363 AW\, Nederland;X-APPLE-RADIUS=100;X-TITLE=Grand caf
 é Bankie:geo:51.827604,4.744164
END:VEVENT
BEGIN:VTIMEZONE
TZID:Europe/Amsterdam
X-LIC-LOCATION:Europe/Amsterdam
BEGIN:DAYLIGHT
DTSTART:20230326T030000
TZOFFSETFROM:+0100
TZOFFSETTO:+0200
TZNAME:CEST
END:DAYLIGHT
END:VTIMEZONE
END:VCALENDAR