BEGIN:VCALENDAR
VERSION:2.0
PRODID:-//wp-events-plugin.com//7.2.3.1//EN
TZID:Europe/Amsterdam
X-WR-TIMEZONE:Europe/Amsterdam
BEGIN:VEVENT
UID:16@bigbandblast.com
DTSTART;TZID=Europe/Amsterdam:20180819T140000
DTEND;TZID=Europe/Amsterdam:20180819T173000
DTSTAMP:20180813T145335Z
URL:https://www.bigbandblast.com/concerten/valley-sound-big-band-event/
SUMMARY:Big Band Festival Valley Sound Big Band
DESCRIPTION:[embed]https://youtu.be/vNDlvb2PKFM[/embed]\n\n4e editie Sieben
 /Big Band Festival\nOrganisatie Valley Sound Big Band\nMet medewerking van
  4 (gast)orkesten\n\nBig Band Blast! (Sliedrecht)\nPower Swing Big Band (O
 osterhout)\nTony’s Wife (Bergen op Zoom)\nValley Sound Big Band (Roosend
 aal)\n\n\n\n14.00u Uitvoering orkest 1 op podium 1\n14.45-14.50u: podiumsw
 itch\n14.50u Uitvoering orkest 2 op podium 2\n15.35-15.40u: podiumswitch\n
 15.40u Uitvoering orkest 3 op podium 1\n16.25-16.30u: podiumswitch\n16.30u
  Uitvoering orkest 4 op podium 2
ATTACH;FMTTYPE=image/jpeg:https://www.bigbandblast.com/wp-content/uploads/
 maxresdefault1-2.jpg
CATEGORIES:Big Band Festival
LOCATION:Sieben Recreatie\, De Stok 4\, 4703 SZ\, Roosendaal
GEO:51.5365212;4.432985099999996
X-APPLE-STRUCTURED-LOCATION;VALUE=URI;X-ADDRESS=De Stok 4\, Roosendaal\, No
 ord-Brabant\, 4703 SZ\, Nederland;X-APPLE-RADIUS=100;X-TITLE=Sieben Recrea
 tie:geo:51.5365212,4.432985099999996
END:VEVENT
BEGIN:VTIMEZONE
TZID:Europe/Amsterdam
X-LIC-LOCATION:Europe/Amsterdam
BEGIN:DAYLIGHT
DTSTART:20180325T030000
TZOFFSETFROM:+0100
TZOFFSETTO:+0200
TZNAME:CEST
END:DAYLIGHT
END:VTIMEZONE
END:VCALENDAR